BEGIN:VCALENDAR
VERSION:2.0
CALSCALE:GREGORIAN
PRODID:adamgibbons/ics
METHOD:PUBLISH
X-PUBLISHED-TTL:PT1H
BEGIN:VEVENT
UID:3490@lapunta.org
SUMMARY:Perche Dalle Macerie Nasca un Giardino - Assemblea Pubblica in Pza 
	Dalmazia per il Giardino al posto dell'esselunga di via mariti
DTSTAMP:20260424T023013Z
DTSTART:20240225T170000Z
DTEND:20240226T080000Z
URL:https://lapunta.org/event/perche-dalle-macerie-nasca-un-giardino-assemb
	lea-pubblica-in-pza-dalmazia-per-il-giardino-al-posto-dellesselunga-di-via
	-mariti
LOCATION:Piazza Dalmazia - Piazza Dalmazia
STATUS:CONFIRMED
CATEGORIES:Assemblea Quartiere Rifredi
END:VEVENT
END:VCALENDAR
